BEGIN:VCALENDAR
VERSION:2.0
PRODID:-//wp-events-plugin.com//7.2.3.1//EN
TZID:Europe/Berlin
X-WR-TIMEZONE:Europe/Berlin
BEGIN:VEVENT
UID:39@dampfnudeltag.de
DTSTART;TZID=Europe/Berlin:20260422T110000
DTEND;TZID=Europe/Berlin:20260422T180000
DTSTAMP:20260415T123717Z
URL:https://dampfnudeltag.de/events/dampfnudeltag-bei-edeka-fitterer-12/
SUMMARY:Dampfnudeltag bei Edeka Fitterer
DESCRIPTION:Der Dampfnudeltag beim Edeka Fitterer in Rülzheim hat sich mit
 tlerweile zu einem lokalen Phänomen entwickelt\, das in der Region mittle
 rweile bekannt und regelmäßig angenommen wird.Die Dampfnudel\, ein tradi
 tionelles luftig-weiches Hefegebäck\, welches in einer süßen (Vanille-)
  oder herzhaften (Weinsauce) Soße serviert wird ist ein gemütlicher Anla
 ss\, dieses pfälzische Traditionsgericht zu genießen. Oft wird die Dampf
 nudel mit besonderen Angeboten wie extra knusprig und doppelt gebacken.\n\
 nEs handelt sich um eine regelmäßig stattfindende Aktion — d.h. wenn n
 ichts Besonderes angekündigt wird\, gilt der Mittwoch als Dampfnudeltag.\
 nWann und wo ist der Dampfnudeltag?\nJeden Mittwoch von 11:00 Uhr bis 18:0
 0 Uhr Dampfnudeltag beim Edeka Fitterer in der Germersheimer Straße in R
 ülzheim. Der Catering-Service Wunsch Entertainment aus Freimersheim steht
  in dieser Zeit mit seinem Dampfnudel-Anhänger im Eingangsbereich des Mar
 ktes und verkauft die traditionelle pfälzische Mehlspeise.
ATTACH;FMTTYPE=image/jpeg:https://dampfnudeltag.de/wp-content/uploads/2025
 /12/dampfnudeltag.jpg
CATEGORIES:Foodtruck /-Anhänger
LOCATION:EDEKA Fitterer in Rülzheim\, Germersheimer Straße 9\, Rülzheim\
 , Rheinland-Pfalz\, 76761\, Südpfalz\, Deutschland
GEO:49.161644;8.293261
X-APPLE-STRUCTURED-LOCATION;VALUE=URI;X-ADDRESS=Germersheimer Straße 9\, R
 ülzheim\, Rheinland-Pfalz\, 76761\, Südpfalz\, Deutschland;X-APPLE-RADIU
 S=100;X-TITLE=EDEKA Fitterer in Rülzheim:geo:49.161644,8.293261
END:VEVENT
BEGIN:VTIMEZONE
TZID:Europe/Berlin
X-LIC-LOCATION:Europe/Berlin
BEGIN:DAYLIGHT
DTSTART:20260329T030000
TZOFFSETFROM:+0100
TZOFFSETTO:+0200
TZNAME:CEST
END:DAYLIGHT
END:VTIMEZONE
END:VCALENDAR