BEGIN:VCALENDAR
VERSION:2.0
PRODID:-//wp-events-plugin.com//7.2.3.1//EN
TZID:Europe/Berlin
X-WR-TIMEZONE:Europe/Berlin
BEGIN:VEVENT
UID:42@dampfnudeltag.de
DTSTART;TZID=Europe/Berlin:20260425T100000
DTEND;TZID=Europe/Berlin:20260425T160000
DTSTAMP:20260415T124035Z
URL:https://dampfnudeltag.de/events/dampfnudeltag-beim-edeka-kissel-sbk-ed
 enkoben-11/
SUMMARY:Dampfnudeltag beim EDEKA Kissel SBK Edenkoben
DESCRIPTION:Der Dampfnudeltag beim EDEKA Kissel SBK Edenkoben hat sich mitt
 lerweile zu einem lokalen Phänomen entwickelt\, das in der Region mittler
 weile bekannt und regelmäßig angenommen wird. Die Dampfnudel\, ein tradi
 tionelles luftig-weiches Hefegebäck\, welches in einer süßen (Vanille-)
  oder herzhaften (Weinsauce) Soße serviert wird ist ein gemütlicher Anla
 ss\, dieses pfälzische Traditionsgericht zu genießen. Oft wird die Dampf
 nudel mit besonderen Angeboten wie extra knusprig und doppelt gebacken.\n\
 nEs handelt sich um eine regelmäßig stattfindende Aktion — d.h. wenn n
 ichts Besonderes angekündigt wird\, gilt der Mittwoch als Dampfnudeltag.\
 nWann und wo ist der Dampfnudeltag?\nJeden Samstag von 11:00 Uhr bis 16:00
  Uhr Dampfnudeltag beim EDEKA Kissel SBK Edenkoben in der Luitpoldstraße 
 73\, 67480 Edenkoben. Der Catering-Service Wunsch Entertainment aus Freime
 rsheim steht in dieser Zeit mit seinem Dampfnudel-Anhänger im Eingangsber
 eich des Marktes und verkauft die traditionelle pfälzische Mehlspeise.
ATTACH;FMTTYPE=image/jpeg:https://dampfnudeltag.de/wp-content/uploads/2026
 /02/ChatGPT-Image-4.-Feb.-2026-13_20_53-1.png
CATEGORIES:Foodtruck /-Anhänger
LOCATION:EDEKA Kissel SBK Edenkoben\, Luitpoldstraße 73\, Edenkoben\, Rhei
 nland-Pfalz\, 67480\, Südpfalz\, Deutschland
GEO:49.286425;8.138336
X-APPLE-STRUCTURED-LOCATION;VALUE=URI;X-ADDRESS=Luitpoldstraße 73\, Edenko
 ben\, Rheinland-Pfalz\, 67480\, Südpfalz\, Deutschland;X-APPLE-RADIUS=100
 ;X-TITLE=EDEKA Kissel SBK Edenkoben:geo:49.286425,8.138336
END:VEVENT
BEGIN:VTIMEZONE
TZID:Europe/Berlin
X-LIC-LOCATION:Europe/Berlin
BEGIN:DAYLIGHT
DTSTART:20260329T030000
TZOFFSETFROM:+0100
TZOFFSETTO:+0200
TZNAME:CEST
END:DAYLIGHT
END:VTIMEZONE
END:VCALENDAR