BEGIN:VCALENDAR
VERSION:2.0
PRODID:-//wp-events-plugin.com//7.2.3.1//EN
TZID:Europe/Berlin
X-WR-TIMEZONE:Europe/Berlin
BEGIN:VEVENT
UID:38@dampfnudeltag.de
DTSTART;TZID=Europe/Berlin:20260424T110000
DTEND;TZID=Europe/Berlin:20260424T160000
DTSTAMP:20260415T123619Z
URL:https://dampfnudeltag.de/events/dampfnudeltag-beim-edeka-kissel-sbk-la
 mbrecht-11/
SUMMARY:Dampfnudeltag beim EDEKA Kissel SBK Lambrecht
DESCRIPTION:Der Dampfnudeltag beim EDEKA Kissel SBK Lambrecht hat sich mitt
 lerweile zu einem lokalen Phänomen entwickelt\, das in der Region mittler
 weile bekannt und regelmäßig angenommen wird. Die Dampfnudel\, ein tradi
 tionelles luftig-weiches Hefegebäck\, welches in einer süßen (Vanille-)
  oder herzhaften (Weinsauce) Soße serviert wird ist ein gemütlicher Anla
 ss\, dieses pfälzische Traditionsgericht zu genießen. Oft wird die Dampf
 nudel mit besonderen Angeboten wie extra knusprig und doppelt gebacken.\n\
 nEs handelt sich um eine regelmäßig stattfindende Aktion — d.h. wenn n
 ichts Besonderes angekündigt wird\, gilt der Mittwoch als Dampfnudeltag.\
 nWann und wo ist der Dampfnudeltag?\nJeden Freitag von 11:00 Uhr bis 16:00
  Uhr Dampfnudeltag beim EDEKA Kissel SBK Lambrecht in der Hauptstraße 31\
 , 67466 Lambrecht (Pfalz). Der Catering-Service Wunsch Entertainment aus F
 reimersheim steht in dieser Zeit mit seinem Dampfnudel-Anhänger im Eingan
 gsbereich des Marktes und verkauft die traditionelle pfälzische Mehlspeis
 e.
ATTACH;FMTTYPE=image/jpeg:https://dampfnudeltag.de/wp-content/uploads/2026
 /02/ChatGPT-Image-4.-Feb.-2026-13_20_53.png
CATEGORIES:Foodtruck /-Anhänger
LOCATION:EDEKA Kissel SBK Lambrecht\, Hauptstraße 31\, Lambrecht (Pfalz)\,
  Rheinland-Pfalz\, 67466 \, Südpfalz\, Deutschland
GEO:49.372237;8.076932
X-APPLE-STRUCTURED-LOCATION;VALUE=URI;X-ADDRESS=Hauptstraße 31\, Lambrecht
  (Pfalz)\, Rheinland-Pfalz\, 67466 \, Südpfalz\, Deutschland;X-APPLE-RADI
 US=100;X-TITLE=EDEKA Kissel SBK Lambrecht:geo:49.372237,8.076932
END:VEVENT
BEGIN:VTIMEZONE
TZID:Europe/Berlin
X-LIC-LOCATION:Europe/Berlin
BEGIN:DAYLIGHT
DTSTART:20260329T030000
TZOFFSETFROM:+0100
TZOFFSETTO:+0200
TZNAME:CEST
END:DAYLIGHT
END:VTIMEZONE
END:VCALENDAR